BEGIN:VCALENDAR
VERSION:2.0
PRODID:-//Molives Mentoring - ECPv6.15.16.1//NONSGML v1.0//EN
CALSCALE:GREGORIAN
METHOD:PUBLISH
X-ORIGINAL-URL:https://molives.co.ke
X-WR-CALDESC:Events for Molives Mentoring
REFRESH-INTERVAL;VALUE=DURATION:PT1H
X-Robots-Tag:noindex
X-PUBLISHED-TTL:PT1H
BEGIN:VTIMEZONE
TZID:Africa/Nairobi
BEGIN:STANDARD
TZOFFSETFROM:+0300
TZOFFSETTO:+0300
TZNAME:EAT
DTSTART:20250101T000000
END:STANDARD
END:VTIMEZONE
BEGIN:VEVENT
DTSTART;TZID=Africa/Nairobi:20260116T083000
DTEND;TZID=Africa/Nairobi:20260317T123000
DTSTAMP:20260424T023651
CREATED:20260219T094129Z
LAST-MODIFIED:20260310T133559Z
UID:1933-1768552200-1773750600@molives.co.ke
SUMMARY:Cohort 10 Kickoff
DESCRIPTION:Cohort 10 Is Here And It’s Our Best Yet Mentorship and Leadership program in Kenya!\nAt M_Olives Mentors\, we’re excited for Cohort 10\, introducing new\, enhanced modules designed to take your mentoring and leadership journey to the next level. \n Beyond mentoring\, you’ll gain the skills to: \n\nDesign and run your own mentorship or training programs\nBuild impactful initiatives in your community or organization\nPosition yourself as a leader who creates change\, not just talks about it\n\n Cohort 10 is more practical\, more structured and more powerful.\nIf you’re ready to grow\, lead and leave a legacy – this is your sign. \n Join Cohort 10 today and ignite your mentoring passion through this link: https://forms.gle/C8G9ykkS4P2Saei6A \n 
URL:https://molives.co.ke/event/cohort-10-kickoff/
LOCATION:NHC Lang’ata Court\, Lang'ata\, Nairobi\, Kenya
CATEGORIES:Ignite Your Mentoring Passion,Running Cohort
ATTACH;FMTTYPE=image/jpeg:https://molives.co.ke/wp-content/uploads/2026/01/COHORT-10-FLYER.jpeg-2.jpeg
ORGANIZER;CN="Nelly":MAILTO:info@molives.co.ke
END:VEVENT
BEGIN:VEVENT
DTSTART;TZID=Africa/Nairobi:20260314T080000
DTEND;TZID=Africa/Nairobi:20260314T170000
DTSTAMP:20260424T023651
CREATED:20260304T073604Z
LAST-MODIFIED:20260310T135328Z
UID:2136-1773475200-1773507600@molives.co.ke
SUMMARY:COHORT 10 GRADUATION
DESCRIPTION:Cohort 10 Graduation is happening on 14th March 🎓✨ \nWe are looking forward to an eventful and memorable day as we celebrate the commitment\, consistency\, and hard work that has defined our journey over the last 8 weeks. This cohort has shown resilience\, growth\, and dedication\, and we couldn’t be prouder.\nWe also successfully introduced our new module\, marking another milestone in our mentorship journey and expanding the impact we continue to make. \nHere’s to growth\, excellence\, and finishing strong. See you on the 14th! 💛 \n#M_OliveSMentoringConsultancy #Cohort10Graduation #CelebratingGrowth #WomenEmpowerment
URL:https://molives.co.ke/event/cohort-10-graduation/
LOCATION:All Saints Cathedral Nrb\, Nairobi\, Kenya
CATEGORIES:Ignite Your Mentoring Passion
ATTACH;FMTTYPE=image/png:https://molives.co.ke/wp-content/uploads/2026/03/Gemini_Generated_Image_k8suqnk8suqnk8su.png
ORGANIZER;CN="Nelly":MAILTO:info@molives.co.ke
END:VEVENT
BEGIN:VEVENT
DTSTART;TZID=Africa/Nairobi:20260325T193000
DTEND;TZID=Africa/Nairobi:20260325T213000
DTSTAMP:20260424T023651
CREATED:20260318T144510Z
LAST-MODIFIED:20260318T144510Z
UID:2190-1774467000-1774474200@molives.co.ke
SUMMARY:UNLOCKING YOUR POTENTIAL THROUGH PERSONAL BANDING WEBINAR
DESCRIPTION:Stop blending in. Start standing out. 🚀 \nYour personal brand is more than just a LinkedIn profile\, it’s your reputation\, your story\, and your most valuable professional asset. Join us for an exclusive webinar featuring Grace Kiraguri as she dives deep into Unlocking Your Potential Through Personal Branding. \nWhether you’re looking to climb the corporate ladder or grow your own business\, she will show you how to own your narrative and create opportunities. \n📅 Date: March 25\, 2026\n⏰ Time: 7:30PM – 9:00PM\n🔗 Register here: https://zoom.us/meeting/register/upc-15TgS4GhbGlOTGxfxA \n#PersonalBranding #UnlockYourPotential #CareerGrowth #ProfessionalDevelopment #Webinar #GraceKiraguri #OwnYourNarrative #LeadershipDevelopment #DigitalPresence #BrandingTips  
URL:https://molives.co.ke/event/unlocking-your-potential-through-personal-banding-webinar/
LOCATION:Online
CATEGORIES:Webinar
ORGANIZER;CN="Nelly":MAILTO:info@molives.co.ke
END:VEVENT
BEGIN:VEVENT
DTSTART;TZID=Africa/Nairobi:20260410T190000
DTEND;TZID=Africa/Nairobi:20260410T220000
DTSTAMP:20260424T023651
CREATED:20260331T123447Z
LAST-MODIFIED:20260331T125227Z
UID:2204-1775847600-1775858400@molives.co.ke
SUMMARY:COHORT 11KICKOFF
DESCRIPTION:Your impact isn’t just about what you know\,it’s about who you empower.\nIgnite Your Mentoring Passion (Cohort 11) is calling for those ready to move from “expert” to “catalyst.”\nThis isn’t just another course; it’s a high-energy community designed to help you bridge the gap between success and significance.\nReady to fuel the fire?\nhttps://forms.gle/AjNE8g1WwTFqM5m96 — Secure your spot \n#IgniteYourMentoringPassion #MentorshipMatters #LeadershipDevelopment #EmpowerOthers  #ProfessionalGrowth
URL:https://molives.co.ke/event/cohort-11/
LOCATION:Online
CATEGORIES:Business,Cohort Registration,Ignite Your Mentoring Passion
ATTACH;FMTTYPE=image/jpeg:https://molives.co.ke/wp-content/uploads/2026/03/COHORT-11-FLYER-e1774960420274.jpeg
ORGANIZER;CN="M_Olives Mentors":MAILTO:molivesmentors@gmail.com
END:VEVENT
END:VCALENDAR